BEGIN:VCALENDAR
VERSION:2.0
PRODID:-//Holzfreundin - ECPv6.15.20//NONSGML v1.0//EN
CALSCALE:GREGORIAN
METHOD:PUBLISH
X-WR-CALNAME:Holzfreundin
X-ORIGINAL-URL:https://holzfreundin.de
X-WR-CALDESC:Veranstaltungen für Holzfreundin
REFRESH-INTERVAL;VALUE=DURATION:PT1H
X-Robots-Tag:noindex
X-PUBLISHED-TTL:PT1H
BEGIN:VTIMEZONE
TZID:UTC
BEGIN:STANDARD
TZOFFSETFROM:+0000
TZOFFSETTO:+0000
TZNAME:UTC
DTSTART:20240101T000000
END:STANDARD
END:VTIMEZONE
BEGIN:VEVENT
DTSTART;TZID=UTC:20250301T080000
DTEND;TZID=UTC:20250301T170000
DTSTAMP:20260419T121918
CREATED:20250304T104331Z
LAST-MODIFIED:20250304T104548Z
UID:411-1740816000-1740848400@holzfreundin.de
SUMMARY:TöpferKids
DESCRIPTION:Der Inhalt ist geschützt.
URL:https://holzfreundin.de/kurs/toepferkids/
LOCATION:Töpfern für Kinder\, Niederbergheimer Straße 27\, Soest\, 59494
ORGANIZER;CN="Holzfreundin":MAILTO:info@holzfreundin.de
END:VEVENT
BEGIN:VEVENT
DTSTART;TZID=UTC:20250314T180000
DTEND;TZID=UTC:20250315T210000
DTSTAMP:20260419T121918
CREATED:20250304T105212Z
LAST-MODIFIED:20250304T110015Z
UID:414-1741975200-1742072400@holzfreundin.de
SUMMARY:Freundinnen-Töpfern
DESCRIPTION:Der Inhalt ist geschützt.
URL:https://holzfreundin.de/kurs/freundinnen-toepfern/
LOCATION:Freundinnen-Töpfern\, Niederbergheimer Straße 27\, Soest\, 59494
ORGANIZER;CN="Holzfreundin":MAILTO:info@holzfreundin.de
END:VEVENT
BEGIN:VEVENT
DTSTART;TZID=UTC:20250322T080000
DTEND;TZID=UTC:20250322T170000
DTSTAMP:20260419T121918
CREATED:20250304T105424Z
LAST-MODIFIED:20250304T105520Z
UID:417-1742630400-1742662800@holzfreundin.de
SUMMARY:Oster-Schnitzen
DESCRIPTION:Der Inhalt ist geschützt.
URL:https://holzfreundin.de/kurs/oster-schnitzen/
LOCATION:Oster-Schnitzen\, Niederbergheimer Straße 27\, Soest\, 59494
ORGANIZER;CN="Holzfreundin":MAILTO:info@holzfreundin.de
END:VEVENT
END:VCALENDAR